BEGIN:VCALENDAR
VERSION:2.0
PRODID:-//More Than A Single Story - ECPv6.15.20//NONSGML v1.0//EN
CALSCALE:GREGORIAN
METHOD:PUBLISH
X-ORIGINAL-URL:https://morethanasinglestory.com
X-WR-CALDESC:Events for More Than A Single Story
REFRESH-INTERVAL;VALUE=DURATION:PT1H
X-Robots-Tag:noindex
X-PUBLISHED-TTL:PT1H
BEGIN:VTIMEZONE
TZID:America/Chicago
BEGIN:DAYLIGHT
TZOFFSETFROM:-0600
TZOFFSETTO:-0500
TZNAME:CDT
DTSTART:20210314T080000
END:DAYLIGHT
BEGIN:STANDARD
TZOFFSETFROM:-0500
TZOFFSETTO:-0600
TZNAME:CST
DTSTART:20211107T070000
END:STANDARD
BEGIN:DAYLIGHT
TZOFFSETFROM:-0600
TZOFFSETTO:-0500
TZNAME:CDT
DTSTART:20220313T080000
END:DAYLIGHT
BEGIN:STANDARD
TZOFFSETFROM:-0500
TZOFFSETTO:-0600
TZNAME:CST
DTSTART:20221106T070000
END:STANDARD
BEGIN:DAYLIGHT
TZOFFSETFROM:-0600
TZOFFSETTO:-0500
TZNAME:CDT
DTSTART:20230312T080000
END:DAYLIGHT
BEGIN:STANDARD
TZOFFSETFROM:-0500
TZOFFSETTO:-0600
TZNAME:CST
DTSTART:20231105T070000
END:STANDARD
END:VTIMEZONE
BEGIN:VEVENT
DTSTART;TZID=America/Chicago:20221015T130000
DTEND;TZID=America/Chicago:20221015T150000
DTSTAMP:20260423T115918
CREATED:20220905T153455Z
LAST-MODIFIED:20220912T183359Z
UID:17761-1665838800-1665846000@morethanasinglestory.com
SUMMARY:African Americans Rooted and Rising: Nothando & Vusumusi Zulu and Joshua Gillespie
DESCRIPTION:Embracing Our Roots: African American Rooted and Rising\nA Conversation with Nothando and Vusumusi Zulu and their grandson\, Joshua Gillespie (Brotha\nAse’).\n| Virtual: Zoom | \nOn Saturday\, October 15\, 2022\, up and coming drummer and storyteller\, Joshua Gillespie (Brotha Ase’) will join his grandparents\, the master storytellers\, Nothando and Vusumusi Zulu\, in a conversation about the power of storytelling to lift our people up\, and about the Black Storytellers Alliance in Minnesota\, of which Nothando and Vusi are co-founding members. \n           Embracing Our Roots is a conversation series that reaches back into the history of Minnesota’s African American arts community. The purpose is to pass this knowledge along to the new generation that is now ascending as leaders in our African American arts community. The series features Elders and Culture Bearers who engage with young leaders to discuss significant milestones in Minnesota’s Black arts history\, and the impact that the artists and movements have had on our present day capacity to survive the storms and keep creating.  Embracing our Roots: African Americans Rooted and Rising is a collaboration with More Than a Single Story and In Black Ink. \n  \nREGISTER HERE\n  \nABOUT THE PANELISTS: \nNothando and Vusumuzi Zulu have been stalwart proponents of Kujichagulia\, the Swahili\nword for self-determination for over four decades. They revel in opportunities to transmit the\nvalues of our African ancestors through story. Both are transplants from the south: Nothando\nfrom the sharecropping farms of Nat Turner’s county in Virginia and Vusi from the often\ntumultuous city of St Louis\, Missouri. As co-founding members of the Black Storytellers\nAlliance in Minnesota they began producing the popular ““Signifyin’ & Testifyin’” three-day\nstorytelling festival in 1991 after returning from the National Association of Black Storytellers\,\nInc. (NABS) festival and Conference in Myrtle Beach\, South Carolina. It was such a moving\nexperience that they knew they had to bring something like that back to inspire the people in\nMinnesota. “Signifyin&#39; and Testifyin’” has entertained\, enthralled and educated thousands since\nits inception. Nothando and Vusi have brought Tellers from across the country to weave\nstorytelling magic\, and audiences continue coming back year after year to glean more nuggets of\ntruth about our people through the art of oral storytelling. Through storytelling\, the Zulu family\ndemonstrates the Joy of being Black. \nJoshua Gillespie (Brotha Ase’)  was brought up within the storytelling culture. Witnessing his grandparents\, the master Storytellers Vusumuzi and Nothando Zulu on and off the stage\, sparked a flame in him to carry on the torch. He uses his artistic abilities: digital art\, music\, dance\, djembe drumming & oral expertise – to captivate audiences.  Brotha Ase believes our stories are like seeds from the divine tree of life\, helping to guide us and grow us into divine trees of our own. The goal of Joshua’s storytelling is to highlight current history (history currently in the making)\, life lessons \, and to inspire his people and all people to aspire to be who they truly are in spite of the trials and tribulations that life throws at them. \nEmbracing our Roots: African Americans Rooted and Rising is a collaboration with More\nThan a Single Story and In Black Ink.
URL:https://morethanasinglestory.com/event/african-american-rooted-and-rising/
LOCATION:MN
CATEGORIES:Community,Discussions,Embracing Our Roots
ATTACH;FMTTYPE=image/jpeg:https://morethanasinglestory.com/wp-content/uploads/2022/09/09.24.22-African-Americans-Rooted-Rising-1-scaled.jpg
END:VEVENT
END:VCALENDAR