BEGIN:VCALENDAR
VERSION:2.0
PRODID:-//More Than A Single Story - ECPv6.15.20//NONSGML v1.0//EN
CALSCALE:GREGORIAN
METHOD:PUBLISH
X-WR-CALNAME:More Than A Single Story
X-ORIGINAL-URL:https://morethanasinglestory.com
X-WR-CALDESC:Events for More Than A Single Story
REFRESH-INTERVAL;VALUE=DURATION:PT1H
X-Robots-Tag:noindex
X-PUBLISHED-TTL:PT1H
BEGIN:VTIMEZONE
TZID:America/Chicago
BEGIN:DAYLIGHT
TZOFFSETFROM:-0600
TZOFFSETTO:-0500
TZNAME:CDT
DTSTART:20230312T080000
END:DAYLIGHT
BEGIN:STANDARD
TZOFFSETFROM:-0500
TZOFFSETTO:-0600
TZNAME:CST
DTSTART:20231105T070000
END:STANDARD
BEGIN:DAYLIGHT
TZOFFSETFROM:-0600
TZOFFSETTO:-0500
TZNAME:CDT
DTSTART:20240310T080000
END:DAYLIGHT
BEGIN:STANDARD
TZOFFSETFROM:-0500
TZOFFSETTO:-0600
TZNAME:CST
DTSTART:20241103T070000
END:STANDARD
BEGIN:DAYLIGHT
TZOFFSETFROM:-0600
TZOFFSETTO:-0500
TZNAME:CDT
DTSTART:20250309T080000
END:DAYLIGHT
BEGIN:STANDARD
TZOFFSETFROM:-0500
TZOFFSETTO:-0600
TZNAME:CST
DTSTART:20251102T070000
END:STANDARD
END:VTIMEZONE
BEGIN:VEVENT
DTSTART;TZID=America/Chicago:20240907T130000
DTEND;TZID=America/Chicago:20240907T150000
DTSTAMP:20260419T175652
CREATED:20240726T034425Z
LAST-MODIFIED:20240820T183609Z
UID:18519-1725714000-1725721200@morethanasinglestory.com
SUMMARY:EMBRACING OUR ROOTS: ROOTED AND RISING-  A conversation with Dr. Yolanda Williams & PaviElle French
DESCRIPTION:*This is an in-person event* \nRegister here: https://www.eventbrite.com/e/embracing-our-roots-rooted-and-rising-a-conversation-with-dr-yolanda-will-tickets-958655222577?aff=oddtdtcreator \nPanelist bios: \nRev. Yolanda Y. Williams\, Ph.D.\, is a performer\, educator\, scholar\, and pastor. Yolanda performed soprano and mezzo-soprano repertoire with Vocalessence\, the Rochester Symphony\, La Choeur Symphonique de Fribourg\, Lundi Sept Heures\, Ensemble de Cuivres Jurassien\, the Montreux Symphony\, and the Israel Philharmonic. Her worldwide performances have been of music from the Classical\, Jazz\, Blues\, and Gospel genres. Dr. Williams teaches music as a cultural artifact through the African American/African Studies department at the University of Minnesota. Scholarly work on musical styles and genres of the African Diaspora can be found in the Greenwood Encyclopedia of African American Folklore (2005) and the Encyclopedia of African American Music (2010). With the completion of a second master’s degree\, Yolanda became a pastor in the United Methodist Church. She was ordained in May 2023 and serves a congregation in Fridley\, MN. \n  \nPaviElle French is known for such works as – A Requiem for Zula (2018) written in celebration of her Mother’s life; Sands of Time (2021) with The SPCO (commissioned by The Sands Family); a self-produced album called SOVEREIGN (2020); The SOVEREIGN Suite (2022) commissioned by The Schubert Club in connection with PaviElle’s Artist in Residence with The American Composer Forum (22-24); and has most recently released The SOVEREIGN Suite Video filmed by Peter Myers\, and Soundtrack in December of 2023. PaviElle is finishing up both her ACF Residency (2022-24)\, and Jerome Artist Fellowship (2021-23). She is currently working with a stellar team of educators\, toward a curriculum\, based on her work through her SOVEREIGN Series. For more info\, please check out: www.paviellefrench.com. \n  \n 
URL:https://morethanasinglestory.com/event/embracing-our-roots-rooted-and-rising-a-conversation-with-dr-yolanda-williams-pavielle-french/
LOCATION:2106 S 4th St Minneapolis\, MN 55455\, 2106 S 4th St\, Minneapolis\, MN\, 55455\, United States
CATEGORIES:Embracing Our Roots
ORGANIZER;CN="More Than A Single Story":MAILTO:mtassinfo@gmail.com
END:VEVENT
END:VCALENDAR