BEGIN:VCALENDAR
VERSION:2.0
PRODID:-//More Than A Single Story - ECPv6.15.20//NONSGML v1.0//EN
CALSCALE:GREGORIAN
METHOD:PUBLISH
X-ORIGINAL-URL:https://morethanasinglestory.com
X-WR-CALDESC:Events for More Than A Single Story
REFRESH-INTERVAL;VALUE=DURATION:PT1H
X-Robots-Tag:noindex
X-PUBLISHED-TTL:PT1H
BEGIN:VTIMEZONE
TZID:America/Chicago
BEGIN:DAYLIGHT
TZOFFSETFROM:-0600
TZOFFSETTO:-0500
TZNAME:CDT
DTSTART:20230312T080000
END:DAYLIGHT
BEGIN:STANDARD
TZOFFSETFROM:-0500
TZOFFSETTO:-0600
TZNAME:CST
DTSTART:20231105T070000
END:STANDARD
BEGIN:DAYLIGHT
TZOFFSETFROM:-0600
TZOFFSETTO:-0500
TZNAME:CDT
DTSTART:20240310T080000
END:DAYLIGHT
BEGIN:STANDARD
TZOFFSETFROM:-0500
TZOFFSETTO:-0600
TZNAME:CST
DTSTART:20241103T070000
END:STANDARD
BEGIN:DAYLIGHT
TZOFFSETFROM:-0600
TZOFFSETTO:-0500
TZNAME:CDT
DTSTART:20250309T080000
END:DAYLIGHT
BEGIN:STANDARD
TZOFFSETFROM:-0500
TZOFFSETTO:-0600
TZNAME:CST
DTSTART:20251102T070000
END:STANDARD
END:VTIMEZONE
BEGIN:VEVENT
DTSTART;TZID=America/Chicago:20240423T183000
DTEND;TZID=America/Chicago:20240423T200000
DTSTAMP:20260421T064753
CREATED:20240413T213932Z
LAST-MODIFIED:20240416T013605Z
UID:18395-1713897000-1713902400@morethanasinglestory.com
SUMMARY:Writer to Writer: Conversations Between BIPOC Writers- Hawona Sullivan Janzen and Antonio Duke
DESCRIPTION:  \n  \n \n  \nJoin award-winning writers Hawona Sullivan Janzen and Antonio Duke in a conversation on Blackness\, history and writing for the stage. As writers\, historians\, playwrights\, actors and scholars\, Janzen and Duke believe writing is the only thing that can save us from ourselves. They will discuss their inspirations from the Black spiritual canon derived from Yoruba\, Santeria and Voodoo deities and their beliefs in the power of the word. Collaborator: More Than a Single Story. This program is funded with money from Minnesota’s Arts and Cultural Heritage Fund. \nWriter to Writer is a series featuring conversations between Black\, Indigenous writers and writers of color. These public intimate conversations between writers will give an inside look into these writers’ personal experiences as storytellers and creators. The Zoom link to the live online discussion will be emailed to registrants in advance. If you’re new to Zoom\, check Getting Started with Zoom. \nRegister Here: https://bit.ly/W2WApril23 \nPanelist Bios: \nHawona Sullivan Janzen is a St. Paul-based writer\, historian\, and social practice artist who believes that art is the only thing that can save us from ourselves. She is currently at work on\, “Hoo-shi and the Waters\,” the imagined story of the courtship and marriage of her Caribbean great\, great grandmother and her Irish great\, great grandfather in the mid 1800’s. \nAntonio Duke is a Twin Cities based actor and playwright. He’s inspired by myths from the black spiritual canon that derive from the Yoruba\, Santeria and Voodoo deities. He has been seen on stages with Blue Barn Theatre\, Penumbra Theatre\, Pillsbury House + Theatre\, Guthrie Theatre\, and many more. He also portrayed John Lewis in the episode “Good Trouble” from The History Channel series “I WAS THERE.”
URL:https://morethanasinglestory.com/event/writer-to-writer-conversations-between-bipoc-writers-hawona-sullivan-janzen-and-antonio-duke/
CATEGORIES:Writer to Writer
END:VEVENT
END:VCALENDAR