BEGIN:VCALENDAR
VERSION:2.0
PRODID:-//More Than A Single Story - ECPv6.15.20//NONSGML v1.0//EN
CALSCALE:GREGORIAN
METHOD:PUBLISH
X-WR-CALNAME:More Than A Single Story
X-ORIGINAL-URL:https://morethanasinglestory.com
X-WR-CALDESC:Events for More Than A Single Story
REFRESH-INTERVAL;VALUE=DURATION:PT1H
X-Robots-Tag:noindex
X-PUBLISHED-TTL:PT1H
BEGIN:VTIMEZONE
TZID:UTC
BEGIN:STANDARD
TZOFFSETFROM:+0000
TZOFFSETTO:+0000
TZNAME:UTC
DTSTART:20170101T000000
END:STANDARD
END:VTIMEZONE
BEGIN:VEVENT
DTSTART;TZID=UTC:20180322T183000
DTEND;TZID=UTC:20180322T203000
DTSTAMP:20260419T223614
CREATED:20160713T060000Z
LAST-MODIFIED:20180512T035207Z
UID:10801-1521743400-1521750600@morethanasinglestory.com
SUMMARY:Rituals and Cultural Stories That Sustain Us
DESCRIPTION:In this More Than a Single Story conversation\, Carolyn Holbrook will talk with African American poet/choreographer/memoirist\, Mary Moore Easter\, Hmong memoirist\, Mai Neng Moua\, Mexican/American memoirist/playwright Vanesa Ramos and Arab/Jewish poet Jna Shelomith about how rituals and ancestral stories carry us\, and how our own writing reflects those stories. Opening Poem by Isela Gomez
URL:https://morethanasinglestory.com/event/rituals-and-cultural-stories-that-sustain-us/
LOCATION:Wisdom Ways Center for Spirituality\, 1890 Randolph St.\, Saint Paul\, MN\, 55105\, United States
CATEGORIES:Discussions
ATTACH;FMTTYPE=image/jpeg:https://morethanasinglestory.com/wp-content/uploads/2018/01/02.jpg
ORGANIZER;CN="More Than A Single Story":MAILTO:mtassinfo@gmail.com
END:VEVENT
END:VCALENDAR