BEGIN:VCALENDAR
VERSION:2.0
PRODID:-//More Than A Single Story - ECPv6.15.20//NONSGML v1.0//EN
CALSCALE:GREGORIAN
METHOD:PUBLISH
X-WR-CALNAME:More Than A Single Story
X-ORIGINAL-URL:https://morethanasinglestory.com
X-WR-CALDESC:Events for More Than A Single Story
REFRESH-INTERVAL;VALUE=DURATION:PT1H
X-Robots-Tag:noindex
X-PUBLISHED-TTL:PT1H
BEGIN:VTIMEZONE
TZID:America/Chicago
BEGIN:DAYLIGHT
TZOFFSETFROM:-0600
TZOFFSETTO:-0500
TZNAME:CDT
DTSTART:20250309T080000
END:DAYLIGHT
BEGIN:STANDARD
TZOFFSETFROM:-0500
TZOFFSETTO:-0600
TZNAME:CST
DTSTART:20251102T070000
END:STANDARD
BEGIN:DAYLIGHT
TZOFFSETFROM:-0600
TZOFFSETTO:-0500
TZNAME:CDT
DTSTART:20260308T080000
END:DAYLIGHT
BEGIN:STANDARD
TZOFFSETFROM:-0500
TZOFFSETTO:-0600
TZNAME:CST
DTSTART:20261101T070000
END:STANDARD
BEGIN:DAYLIGHT
TZOFFSETFROM:-0600
TZOFFSETTO:-0500
TZNAME:CDT
DTSTART:20270314T080000
END:DAYLIGHT
BEGIN:STANDARD
TZOFFSETFROM:-0500
TZOFFSETTO:-0600
TZNAME:CST
DTSTART:20271107T070000
END:STANDARD
END:VTIMEZONE
BEGIN:VEVENT
DTSTART;TZID=America/Chicago:20260507T183000
DTEND;TZID=America/Chicago:20260507T200000
DTSTAMP:20260421T203706
CREATED:20260326T162249Z
LAST-MODIFIED:20260421T213818Z
UID:19501-1778178600-1778184000@morethanasinglestory.com
SUMMARY:Writer to writer with Payal Doshi and Nicole D. Collier
DESCRIPTION:  \nThis is an online event please Register Here \nPanelist Bios: \nPayal Doshi is the author of Rea and the Blood of the Nectar\, a middle grade fantasy novel and recipient of the IPPY Gold Award. Her young adult short story\, “A Confluence of Fates” can be found in the YA anthology\, My Big\, Fat\, Desi Wedding. Her forthcoming four-book series of chapter books\, Magic Gems\, published by Scholastic Inc. will be available in 2026. Payal has an MFA in Creative Writing (Fiction) from The New School\, New York. Born and raised in Mumbai\, India\, she currently lives with her family in Minnesota. When she isn’t writing stories that celebrate her South Asian heritage\, you can find her nose deep in a book with a cup of coffee or daydreaming of fantasy realms to send her characters into. For more information\, visit her website\, www.payaldoshiauthor.com\, or follow her on Instagram @payaldoshiauthor. \nNicole D. Collier writes warm-hearted stories about learning to be true to yourself. Her books have been nominated for state book awards\, earned starred reviews\, and been named on ‘best of’ lists. A former elementary school teacher\, Nicole champions literacy\, critical thinking\, imagination and compassion as essential 21st century skills. Born and raised in Atlanta\, she is currently based in sunny St. Petersburg\, Florida where she is daydreaming about her next project.
URL:https://morethanasinglestory.com/event/writer-to-writer-with-payal-doshi-and-nicole-d-collier/
LOCATION:MN
CATEGORIES:Writer to Writer
ORGANIZER;CN="More Than A Single Story":MAILTO:mtassinfo@gmail.com
END:VEVENT
END:VCALENDAR